BEGIN:VCALENDAR
VERSION:2.0
PRODID:-//Akkordeon-Club Reute e.V. - ECPv6.15.20//NONSGML v1.0//EN
CALSCALE:GREGORIAN
METHOD:PUBLISH
X-WR-CALNAME:Akkordeon-Club Reute e.V.
X-ORIGINAL-URL:https://ac-reute.de
X-WR-CALDESC:Veranstaltungen für Akkordeon-Club Reute e.V.
REFRESH-INTERVAL;VALUE=DURATION:PT1H
X-Robots-Tag:noindex
X-PUBLISHED-TTL:PT1H
BEGIN:VTIMEZONE
TZID:Europe/Berlin
BEGIN:DAYLIGHT
TZOFFSETFROM:+0100
TZOFFSETTO:+0200
TZNAME:CEST
DTSTART:20240331T010000
END:DAYLIGHT
BEGIN:STANDARD
TZOFFSETFROM:+0200
TZOFFSETTO:+0100
TZNAME:CET
DTSTART:20241027T010000
END:STANDARD
BEGIN:DAYLIGHT
TZOFFSETFROM:+0100
TZOFFSETTO:+0200
TZNAME:CEST
DTSTART:20250330T010000
END:DAYLIGHT
BEGIN:STANDARD
TZOFFSETFROM:+0200
TZOFFSETTO:+0100
TZNAME:CET
DTSTART:20251026T010000
END:STANDARD
BEGIN:DAYLIGHT
TZOFFSETFROM:+0100
TZOFFSETTO:+0200
TZNAME:CEST
DTSTART:20260329T010000
END:DAYLIGHT
BEGIN:STANDARD
TZOFFSETFROM:+0200
TZOFFSETTO:+0100
TZNAME:CET
DTSTART:20261025T010000
END:STANDARD
END:VTIMEZONE
BEGIN:VEVENT
DTSTART;TZID=Europe/Berlin:20251206T180000
DTEND;TZID=Europe/Berlin:20251206T235900
DTSTAMP:20260420T063703
CREATED:20240915T163328Z
LAST-MODIFIED:20251114T174638Z
UID:243-1765044000-1765065540@ac-reute.de
SUMMARY:Christmas Dinner
DESCRIPTION:📅 Datum & Uhrzeit\nSamstag\, 06.12.2025🕠 Einlass: 17:30 Uhr | 🕕 Beginn: 18:00 Uhr \n📍 Ort\nEichmattenhalle\, Reute \n✨ Besonderheit: Ein Event\, das es in Reute so noch nie gab!Genießt musikalische Highlights aus 5 Jahrzehnten unseres Orchesters (1975–2025) in festlicher Atmosphäre mit einem 3-Gänge Menü. \n\n🎟 Eintritt & Vorverkauf\n💵 Preis: 29 € (inkl. Menü & Begrüßungssekt)💌 Zusätzlicher Eintritt: auf Spendenbasis \nVorverkauf:Aufgrund des hohen Andrangs beim Mitgliedervorverkauf müssen wir den geplanten Vorverkauf am 15.11.2025 leider absagen. \n\n\n🎶 Programm\n\nMusikalische Begleitung durch unser Orchester\nHits aus 5 Jahrzehnten (1975–2025)\nFestliches Menü & Begrüßungssekt\nEin einzigartiges Event in Reute\, das ihr nicht verpassen solltet!\n\n  \n🍽️ Menü\n\nSekt oder Roséli zur Begrüßung\n Vorspeise\n\nFeldsalat mit Kracherle opt. mit Speck\n\n\n\n\n\nHauptgang vom Buffet\n\nSchweinebraten und gefüllter Putenbraten mit Rahm- und Bratensauce\nveg. Alternative: Gemüsebratlinge\nKartoffelgratin und Spätzle\nGemüsevariationen und Wirsinggemüse\n\n\n\nDessert vom Buffet\n\nPanna Cotta\n\nMousse au Chocolat\n\nObstsalat\n\n\n\n\n🍷 Für jeden Gang gibt es Empfehlungen zu ausgewählten Weinen der WG Oberbergen (nicht im Preis enthalten) \n  \n🪑 Tischplan
URL:https://ac-reute.de/veranstaltung/christmasdinner/
LOCATION:Eichmattenhalle Reute\, Hinter den Eichen 7\, Reute\, Baden-Württemberg\, 79276\, Deutschland
CATEGORIES:Konzerte
ATTACH;FMTTYPE=image/png:https://ac-reute.de/wp-content/uploads/2024/09/Plakat-A4-Christmas-Dinner-25-e1761068491116.png
END:VEVENT
END:VCALENDAR